BEGIN:VCALENDAR
VERSION:2.0
PRODID:-//jEvents 2.0 for Joomla//EN
CALSCALE:GREGORIAN
METHOD:PUBLISH
BEGIN:VEVENT
UID:e5b3e0f27f1581d17f420cb068a08543
CATEGORIES:Wandern
CREATED:20250117T164145
SUMMARY:422. Wanderung: „Das Umland von Possendorf/Kreischa“
LOCATION:Busbahnhof Freiberg
DESCRIPTION:WL: Manfred Brunen\nTel.: 34 563\nca. 12 km – mittelschwer\nTreff: 08.00 Uh
 r, Busbahnhof Freiberg, Sonderbus\nAnmeldung beim verantwortlichen Wanderle
 iter\n
X-ALT-DESC;FMTTYPE=text/html:<p>WL: Manfred Brunen<br />Tel.: 34 563</p><p>ca. 12 km – mittelschwer</p><
 p><strong>Treff: <span style="color: #ff0000;">08.00 Uhr</span>, Busbahnhof
  Freiberg, Sonderbus</strong></p><p>Anmeldung beim verantwortlichen Wanderl
 eiter</p>
DTSTAMP:20260420T101853
DTSTART:20250304T070000
SEQUENCE:0
TRANSP:OPAQUE
END:VEVENT
END:VCALENDAR