BEGIN:VCALENDAR
VERSION:2.0
PRODID:-//jEvents 2.0 for Joomla//EN
CALSCALE:GREGORIAN
METHOD:PUBLISH
BEGIN:VEVENT
UID:d8b82c82b1c6a44488eb5eb3bd9b46d4
CATEGORIES:D-Jugend | Fußball
CREATED:20240731T183121
SUMMARY:TuS 1875 Großschirma - Zuger SV 2
LOCATION:Sportpark Großschirma
DESCRIPTION:
DTSTAMP:20260420T084821
DTSTART:20240928T083000
SEQUENCE:0
TRANSP:OPAQUE
END:VEVENT
END:VCALENDAR