BEGIN:VCALENDAR
VERSION:2.0
PRODID:-//jEvents 2.0 for Joomla//EN
CALSCALE:GREGORIAN
METHOD:PUBLISH
BEGIN:VEVENT
UID:6bb65e95299b68e406bec51039b6f909
CATEGORIES:1. Herren | Fußball
CREATED:20240729T195903
SUMMARY:SPG Lichtenberg 2/Burkersdorf - Zuger SV
LOCATION:Sportplatz Lichtenberg
DESCRIPTION:
DTSTAMP:20260420T084858
DTSTART:20240901T103000
SEQUENCE:0
TRANSP:OPAQUE
END:VEVENT
END:VCALENDAR