BEGIN:VCALENDAR
VERSION:2.0
PRODID:-//jEvents 2.0 for Joomla//EN
CALSCALE:GREGORIAN
METHOD:PUBLISH
BEGIN:VEVENT
UID:4d7ca553c1f36346f6193505a5be8045
CATEGORIES:C-Jugend | Fußball
CREATED:20240731T170231
SUMMARY:Zuger SV - FSV Motor Brand-Erbisdorf
LOCATION:Sportplatz an der Halde
DESCRIPTION:
DTSTAMP:20260421T035806
DTSTART:20240928T083000
SEQUENCE:0
TRANSP:OPAQUE
END:VEVENT
END:VCALENDAR